BEGIN:VCALENDAR
VERSION:2.0
PRODID:-//wp-events-plugin.com//7.2.3.1//EN
BEGIN:VEVENT
UID:2-24@medioambiente.motril.es
DTSTART:20240117T000000Z
DTEND:20240124T000000Z
DTSTAMP:20240122T110932Z
URL:https://medioambiente.motril.es/eventos/evento-mediambiente-2/
SUMMARY:Evento mediambiente cambio
DESCRIPTION:Cambio
CATEGORIES:Evento Medio Ambiente
END:VEVENT
END:VCALENDAR