BEGIN:VCALENDAR
VERSION:2.0
PRODID:-//wp-events-plugin.com//7.2.3.1//EN
BEGIN:VEVENT
UID:2-22@medioambiente.motril.es
DTSTART:20231211T000000Z
DTEND:20231217T000000Z
DTSTAMP:20231211T184944Z
URL:https://medioambiente.motril.es/eventos/evento-mediambiente/
SUMMARY:evento mediambiente
DESCRIPTION:Evento de mediambiente
CATEGORIES:Evento Medio Ambiente
LOCATION:Camino de San Antonio.\, Camino de San Antonio\, junto Centro de b
 arrio\, Motril\, España
X-APPLE-STRUCTURED-LOCATION;VALUE=URI;X-ADDRESS=Camino de San Antonio\, jun
 to Centro de barrio\, Motril\, España;X-APPLE-RADIUS=100;X-TITLE=Camino d
 e San Antonio.:geo:0,0
END:VEVENT
END:VCALENDAR